Package: graphite Version: 1.57.0 Command: /home/biocbuild/bbs-3.23-bioc/R/bin/R CMD check --install=check:graphite.install-out.txt --library=/home/biocbuild/bbs-3.23-bioc/R/site-library --timings graphite_1.57.0.tar.gz StartedAt: 2025-11-15 00:10:42 -0500 (Sat, 15 Nov 2025) EndedAt: 2025-11-15 00:15:28 -0500 (Sat, 15 Nov 2025) EllapsedTime: 285.3 seconds RetCode: 0 Status: OK CheckDir: graphite.Rcheck Warnings: 0