Package: graph Version: 1.89.0 Command: /home/biocbuild/bbs-3.23-bioc/R/bin/R CMD INSTALL graph StartedAt: 2025-10-31 15:19:43 -0400 (Fri, 31 Oct 2025) EndedAt: 2025-10-31 15:19:55 -0400 (Fri, 31 Oct 2025) EllapsedTime: 12.0 seconds RetCode: 0 Status: OK