Package: graph Version: 1.89.0 Command: /home/biocbuild/bbs-3.23-bioc/R/bin/R CMD build --keep-empty-dirs --no-resave-data graph StartedAt: 2025-10-31 18:07:11 -0400 (Fri, 31 Oct 2025) EndedAt: 2025-10-31 18:07:41 -0400 (Fri, 31 Oct 2025) EllapsedTime: 30.0 seconds RetCode: 0 Status: OK PackageFile: graph_1.89.0.tar.gz PackageFileSize: 1.429 MiB