Package: graper Version: 1.25.2 Command: /home/biocbuild/R/R/bin/R CMD INSTALL graper StartedAt: 2025-10-23 20:25:25 -0000 (Thu, 23 Oct 2025) EndedAt: 2025-10-23 20:26:33 -0000 (Thu, 23 Oct 2025) EllapsedTime: 68.9 seconds RetCode: 0 Status: OK