Package: graper Version: 1.25.2 Command: /home/biocbuild/R/R/bin/R CMD build --keep-empty-dirs --no-resave-data graper StartedAt: 2025-10-21 00:17:05 -0000 (Tue, 21 Oct 2025) EndedAt: 2025-10-21 00:18:21 -0000 (Tue, 21 Oct 2025) EllapsedTime: 76.0 seconds RetCode: 0 Status: OK PackageFile: graper_1.25.2.tar.gz PackageFileSize: 740.7 KiB