Package: graper Version: 1.25.2 Command: /home/biocbuild/bbs-3.22-bioc/R/bin/R CMD check --install=check:graper.install-out.txt --library=/home/biocbuild/bbs-3.22-bioc/R/site-library --timings graper_1.25.2.tar.gz StartedAt: 2025-10-17 01:36:17 -0400 (Fri, 17 Oct 2025) EndedAt: 2025-10-17 01:37:45 -0400 (Fri, 17 Oct 2025) EllapsedTime: 88.0 seconds RetCode: 0 Status: OK CheckDir: graper.Rcheck Warnings: 0