Package: graper Version: 1.27.0 Command: /home/biocbuild/bbs-3.23-bioc/R/bin/R CMD INSTALL graper StartedAt: 2025-11-20 15:07:50 -0500 (Thu, 20 Nov 2025) EndedAt: 2025-11-20 15:08:28 -0500 (Thu, 20 Nov 2025) EllapsedTime: 37.4 seconds RetCode: 0 Status: OK