Package: graper Version: 1.27.0 Command: /home/biocbuild/bbs-3.23-bioc/R/bin/R CMD build --keep-empty-dirs --no-resave-data graper StartedAt: 2025-11-20 17:56:51 -0500 (Thu, 20 Nov 2025) EndedAt: 2025-11-20 17:57:53 -0500 (Thu, 20 Nov 2025) EllapsedTime: 62.1 seconds RetCode: 0 Status: OK PackageFile: graper_1.27.0.tar.gz PackageFileSize: 986.1 KiB