Package: graper Version: 1.25.2 Maintainer: Britta Velten MaintainerEmail: britta.velten at gmail.com git_url: https://git.bioconductor.org/packages/graper git_branch: devel git_last_commit: 82b0592 git_last_commit_date: 2025-06-24 03:15:40 -0400 (Tue, 24 Jun 2025)