Package: granulator Version: 1.19.0 Command: /home/biocbuild/bbs-3.23-bioc/R/bin/R CMD INSTALL granulator StartedAt: 2025-11-20 15:09:53 -0500 (Thu, 20 Nov 2025) EndedAt: 2025-11-20 15:10:04 -0500 (Thu, 20 Nov 2025) EllapsedTime: 11.6 seconds RetCode: 0 Status: OK