Package: granulator Version: 1.19.0 Command: /home/biocbuild/bbs-3.23-bioc/R/bin/R CMD build --keep-empty-dirs --no-resave-data granulator StartedAt: 2025-11-20 17:56:40 -0500 (Thu, 20 Nov 2025) EndedAt: 2025-11-20 17:59:42 -0500 (Thu, 20 Nov 2025) EllapsedTime: 182.2 seconds RetCode: 0 Status: OK PackageFile: granulator_1.19.0.tar.gz PackageFileSize: 1.291 MiB