Package: granulator Version: 1.17.0 Command: /Library/Frameworks/R.framework/Resources/bin/R CMD INSTALL granulator StartedAt: 2025-10-24 15:20:20 -0400 (Fri, 24 Oct 2025) EndedAt: 2025-10-24 15:20:51 -0400 (Fri, 24 Oct 2025) EllapsedTime: 31.5 seconds RetCode: 0 Status: OK