Package: granulator Version: 1.17.0 Command: /Library/Frameworks/R.framework/Resources/bin/R CMD build --keep-empty-dirs --no-resave-data granulator StartedAt: 2025-10-23 17:11:29 -0400 (Thu, 23 Oct 2025) EndedAt: 2025-10-23 17:13:49 -0400 (Thu, 23 Oct 2025) EllapsedTime: 139.4 seconds RetCode: 0 Status: OK PackageFile: granulator_1.17.0.tar.gz PackageFileSize: 1.33 MiB