Package: granulator Version: 1.17.0 Command: rm -rf granulator.buildbin-libdir && mkdir granulator.buildbin-libdir && /Users/biocbuild/BBS/utils/build-universal.sh granulator_1.17.0.tar.gz /Library/Frameworks/R.framework/Resources/bin/R granulator.buildbin-libdir StartedAt: 2025-10-24 01:37:42 -0400 (Fri, 24 Oct 2025) EndedAt: 2025-10-24 01:38:02 -0400 (Fri, 24 Oct 2025) EllapsedTime: 19.7 seconds RetCode: 0 Status: OK PackageFile: granulator_1.17.0.tgz PackageFileSize: 1.374 MiB