Package: granulator Version: 1.19.0 Maintainer: Sabina Pfister MaintainerEmail: sabina.pfister at novartis.com git_url: https://git.bioconductor.org/packages/granulator git_branch: devel git_last_commit: 2dde115 git_last_commit_date: 2025-10-29 11:08:32 -0400 (Wed, 29 Oct 2025)