Package: gpuMagic Version: 1.25.1 Command: F:\biocbuild\bbs-3.22-bioc\R\bin\R.exe CMD INSTALL gpuMagic StartedAt: 2025-08-14 15:34:56 -0400 (Thu, 14 Aug 2025) EndedAt: 2025-08-14 15:36:13 -0400 (Thu, 14 Aug 2025) EllapsedTime: 77.3 seconds RetCode: 0 Status: OK