Package: gpuMagic Version: 1.25.1 Command: chmod a+r gpuMagic -R && F:\biocbuild\bbs-3.22-bioc\R\bin\R.exe CMD build --keep-empty-dirs --no-resave-data gpuMagic StartedAt: 2025-08-14 20:37:25 -0400 (Thu, 14 Aug 2025) EndedAt: 2025-08-14 20:38:42 -0400 (Thu, 14 Aug 2025) EllapsedTime: 77.4 seconds RetCode: 0 Status: OK PackageFile: gpuMagic_1.25.1.tar.gz PackageFileSize: 737.8 KiB