Package: gpuMagic Version: 1.25.1 Command: rm -rf gpuMagic.buildbin-libdir && mkdir gpuMagic.buildbin-libdir && F:\biocbuild\bbs-3.22-bioc\R\bin\R.exe CMD INSTALL --build --library=gpuMagic.buildbin-libdir gpuMagic_1.25.1.tar.gz StartedAt: 2025-08-15 10:25:16 -0400 (Fri, 15 Aug 2025) EndedAt: 2025-08-15 10:26:44 -0400 (Fri, 15 Aug 2025) EllapsedTime: 87.3 seconds RetCode: 0 Status: OK PackageFile: gpuMagic_1.25.1.zip PackageFileSize: 1.568 MiB