Package: gpuMagic Version: 1.25.1 Command: /home/biocbuild/bbs-3.23-bioc/R/bin/R CMD INSTALL gpuMagic StartedAt: 2025-10-22 21:07:31 -0000 (Wed, 22 Oct 2025) EndedAt: 2025-10-22 21:07:33 -0000 (Wed, 22 Oct 2025) EllapsedTime: 2.4 seconds RetCode: 1 Status: ERROR