Package: gpuMagic Version: 1.25.1 Command: /home/biocbuild/bbs-3.23-bioc/R/bin/R CMD build --keep-empty-dirs --no-resave-data gpuMagic StartedAt: 2025-10-22 23:09:44 -0000 (Wed, 22 Oct 2025) EndedAt: 2025-10-22 23:09:47 -0000 (Wed, 22 Oct 2025) EllapsedTime: 3.0 seconds RetCode: 1 Status: ERROR PackageFile: None PackageFileSize: NA