Package: gpls Version: 1.83.0 Command: /home/biocbuild/bbs-3.23-bioc/R/bin/R CMD build --keep-empty-dirs --no-resave-data gpls StartedAt: 2025-10-31 18:06:49 -0400 (Fri, 31 Oct 2025) EndedAt: 2025-10-31 18:06:58 -0400 (Fri, 31 Oct 2025) EllapsedTime: 9.0 seconds RetCode: 0 Status: OK PackageFile: gpls_1.83.0.tar.gz PackageFileSize: 233.4 KiB