Package: goseq Version: 1.61.1 Command: /home/biocbuild/R/R/bin/R CMD INSTALL goseq StartedAt: 2025-10-13 21:32:04 -0000 (Mon, 13 Oct 2025) EndedAt: 2025-10-13 21:32:49 -0000 (Mon, 13 Oct 2025) EllapsedTime: 45.1 seconds RetCode: 0 Status: OK