Package: goseq Version: 1.61.1 Command: /home/biocbuild/R/R/bin/R CMD build --keep-empty-dirs --no-resave-data goseq StartedAt: 2025-10-10 01:06:53 -0000 (Fri, 10 Oct 2025) EndedAt: 2025-10-10 01:11:10 -0000 (Fri, 10 Oct 2025) EllapsedTime: 257.1 seconds RetCode: 0 Status: OK PackageFile: goseq_1.61.1.tar.gz PackageFileSize: 1.825 MiB