Package: goseq Version: 1.61.1 Command: /home/biocbuild/bbs-3.22-bioc/R/bin/R CMD check --install=check:goseq.install-out.txt --library=/home/biocbuild/bbs-3.22-bioc/R/site-library --timings goseq_1.61.1.tar.gz StartedAt: 2025-10-07 00:27:13 -0400 (Tue, 07 Oct 2025) EndedAt: 2025-10-07 00:35:14 -0400 (Tue, 07 Oct 2025) EllapsedTime: 481.5 seconds RetCode: 0 Status: OK CheckDir: goseq.Rcheck Warnings: 0