Package: goseq Version: 1.63.0 Command: /home/biocbuild/bbs-3.23-bioc/R/bin/R CMD INSTALL goseq StartedAt: 2025-11-04 15:44:07 -0500 (Tue, 04 Nov 2025) EndedAt: 2025-11-04 15:44:43 -0500 (Tue, 04 Nov 2025) EllapsedTime: 36.6 seconds RetCode: 0 Status: OK