Package: goseq Version: 1.63.0 Command: /home/biocbuild/bbs-3.23-bioc/R/bin/R CMD check --install=check:goseq.install-out.txt --library=/home/biocbuild/bbs-3.23-bioc/R/site-library --timings goseq_1.63.0.tar.gz StartedAt: 2025-11-17 00:14:01 -0500 (Mon, 17 Nov 2025) EndedAt: 2025-11-17 00:22:00 -0500 (Mon, 17 Nov 2025) EllapsedTime: 479.6 seconds RetCode: 0 Status: OK CheckDir: goseq.Rcheck Warnings: 0