Package: goseq Version: 1.63.0 Command: /home/biocbuild/bbs-3.23-bioc/R/bin/R CMD build --keep-empty-dirs --no-resave-data goseq StartedAt: 2025-11-04 17:50:26 -0500 (Tue, 04 Nov 2025) EndedAt: 2025-11-04 17:53:56 -0500 (Tue, 04 Nov 2025) EllapsedTime: 209.1 seconds RetCode: 0 Status: OK PackageFile: goseq_1.63.0.tar.gz PackageFileSize: 1.834 MiB