Back to Build/check report for BioC 3.23:   simplified   long
ABCDEF[G]HIJKLMNOPQRSTUVWXYZ

This page was generated on 2025-11-04 11:32 -0500 (Tue, 04 Nov 2025).

HostnameOSArch (*)R versionInstalled pkgs
nebbiolo1Linux (Ubuntu 24.04.3 LTS)x86_64R Under development (unstable) (2025-10-20 r88955) -- "Unsuffered Consequences" 4788
Click on any hostname to see more info about the system (e.g. compilers)      (*) as reported by 'uname -p', except on Windows and Mac OS X

All results for package goseq


To the developers/maintainers of the goseq package:
- Allow up to 24 hours (and sometimes 48 hours) for your latest push to git@git.bioconductor.org:packages/goseq.git to reflect on this report. See Troubleshooting Build Report for more information.
- Use the following Renviron settings to reproduce errors and warnings.
- If 'R CMD check' started to fail recently on the Linux builder(s) over a missing dependency, add the missing dependency to 'Suggests:' in your DESCRIPTION file. See Renviron.bioc for more information.

raw results

Package 900/2323HostnameOS / ArchINSTALLBUILDCHECKBUILD BIN
goseq 1.63.0  (landing page)
Federico Marini
Snapshot Date: 2025-11-03 13:40 -0500 (Mon, 03 Nov 2025)
git_url: https://git.bioconductor.org/packages/goseq
git_branch: devel
git_last_commit: 9833b83
git_last_commit_date: 2025-10-29 10:04:46 -0500 (Wed, 29 Oct 2025)
nebbiolo1Linux (Ubuntu 24.04.3 LTS) / x86_64  OK    OK    OK  NO, package depends on 'rtracklayer' which is not available



Results for Bioconductor software packages that depend directly on package goseq

QUICK STATSOS / ArchINSTALLBUILDCHECKBUILD BIN
nebbiolo1Linux (Ubuntu 24.04.3 LTS) / x86_64
006
006
0024
Package 1/6HostnameOS / ArchINSTALLBUILDCHECKBUILD BIN
ChAMP 2.41.0  (landing page)
Yuan Tian
git_last_commit: 8bc9b68
git_last_commit_date: 2025-10-29 10:17:05 -0500
nebbiolo1Linux (Ubuntu 24.04.3 LTS) / x86_64  OK    OK    WARNINGS  NO, package depends on 'minfi' which is not available
Package 2/6HostnameOS / ArchINSTALLBUILDCHECKBUILD BIN
Damsel 1.7.0  (landing page)
Caitlin Page
git_last_commit: 4c35e04
git_last_commit_date: 2025-10-29 11:29:38 -0500
nebbiolo1Linux (Ubuntu 24.04.3 LTS) / x86_64  OK    OK    WARNINGS  NO, package depends on 'GenomicFeatures' which is not available
Package 3/6HostnameOS / ArchINSTALLBUILDCHECKBUILD BIN
ideal 2.5.0  (landing page)
Federico Marini
git_last_commit: 2ff36ae
git_last_commit_date: 2025-10-29 10:38:28 -0500
nebbiolo1Linux (Ubuntu 24.04.3 LTS) / x86_64  OK    OK    OK  NO, package depends on 'mosdef' which is not available
Package 4/6HostnameOS / ArchINSTALLBUILDCHECKBUILD BIN
mosdef 1.7.0  (landing page)
Federico Marini
git_last_commit: 9ba0438
git_last_commit_date: 2025-10-29 11:29:58 -0500
nebbiolo1Linux (Ubuntu 24.04.3 LTS) / x86_64  OK    OK    OK  NO, package depends on 'goseq' which is not available
Package 5/6HostnameOS / ArchINSTALLBUILDCHECKBUILD BIN
rgsepd 1.43.0  (landing page)
Karl Stamm
git_last_commit: c93ca40
git_last_commit_date: 2025-10-29 10:23:22 -0500
nebbiolo1Linux (Ubuntu 24.04.3 LTS) / x86_64  OK    OK    OK  NO, package depends on 'goseq' which is not available
Package 6/6HostnameOS / ArchINSTALLBUILDCHECKBUILD BIN
SMITE 1.39.0  (landing page)
Neil Ari Wijetunga
git_last_commit: cf2f9ae
git_last_commit_date: 2025-10-29 10:29:51 -0500
nebbiolo1Linux (Ubuntu 24.04.3 LTS) / x86_64  OK    OK    OK  NO, package depends on 'goseq' which is not available