Package: goatea Version: 0.99.9 Command: /home/biocbuild/R/R/bin/R CMD INSTALL goatea StartedAt: 2025-10-13 21:37:20 -0000 (Mon, 13 Oct 2025) EndedAt: 2025-10-13 21:37:58 -0000 (Mon, 13 Oct 2025) EllapsedTime: 37.1 seconds RetCode: 0 Status: OK