Package: goatea Version: 0.99.9 Command: /home/biocbuild/R/R/bin/R CMD build --keep-empty-dirs --no-resave-data goatea StartedAt: 2025-10-14 00:43:08 -0000 (Tue, 14 Oct 2025) EndedAt: 2025-10-14 00:46:16 -0000 (Tue, 14 Oct 2025) EllapsedTime: 188.1 seconds RetCode: 0 Status: OK PackageFile: goatea_0.99.9.tar.gz PackageFileSize: 1.414 MiB