Package: goatea Version: 0.99.9 Command: /home/biocbuild/bbs-3.22-bioc/R/bin/R CMD INSTALL goatea StartedAt: 2025-09-21 15:47:21 -0400 (Sun, 21 Sep 2025) EndedAt: 2025-09-21 15:47:48 -0400 (Sun, 21 Sep 2025) EllapsedTime: 27.5 seconds RetCode: 0 Status: OK