Package: goatea Version: 0.99.9 Command: /home/biocbuild/bbs-3.22-bioc/R/bin/R CMD check --install=check:goatea.install-out.txt --library=/home/biocbuild/bbs-3.22-bioc/R/site-library --timings goatea_0.99.9.tar.gz StartedAt: 2025-10-11 00:36:50 -0400 (Sat, 11 Oct 2025) EndedAt: 2025-10-11 00:41:51 -0400 (Sat, 11 Oct 2025) EllapsedTime: 301.3 seconds RetCode: 0 Status: OK CheckDir: goatea.Rcheck Warnings: 0