Package: goatea Version: 0.99.9 Command: /home/biocbuild/bbs-3.22-bioc/R/bin/R CMD build --keep-empty-dirs --no-resave-data --md5 goatea StartedAt: 2025-09-21 17:52:26 -0400 (Sun, 21 Sep 2025) EndedAt: 2025-09-21 17:54:40 -0400 (Sun, 21 Sep 2025) EllapsedTime: 134.1 seconds RetCode: 0 Status: OK PackageFile: goatea_0.99.9.tar.gz PackageFileSize: 1.877 MiB