Package: goatea Version: 1.1.0 Command: /home/biocbuild/bbs-3.23-bioc/R/bin/R CMD build --keep-empty-dirs --no-resave-data goatea StartedAt: 2025-11-05 17:57:02 -0500 (Wed, 05 Nov 2025) EndedAt: 2025-11-05 17:59:05 -0500 (Wed, 05 Nov 2025) EllapsedTime: 123.1 seconds RetCode: 1 Status: ERROR PackageFile: None PackageFileSize: NA