Package: goatea Version: 0.99.9 Maintainer: Maurits Unkel MaintainerEmail: mauritsunkel at gmail.com git_url: https://git.bioconductor.org/packages/goatea git_branch: devel git_last_commit: 886d2f3 git_last_commit_date: 2025-08-21 08:09:40 -0400 (Thu, 21 Aug 2025)