Package: goTools Version: 1.83.0 Command: /home/biocbuild/R/R/bin/R CMD INSTALL goTools StartedAt: 2025-10-09 21:46:02 -0000 (Thu, 09 Oct 2025) EndedAt: 2025-10-09 21:46:17 -0000 (Thu, 09 Oct 2025) EllapsedTime: 15.2 seconds RetCode: 0 Status: OK