Package: goTools Version: 1.83.0 Command: /home/biocbuild/R/R/bin/R CMD build --keep-empty-dirs --no-resave-data goTools StartedAt: 2025-10-10 01:08:18 -0000 (Fri, 10 Oct 2025) EndedAt: 2025-10-10 01:08:41 -0000 (Fri, 10 Oct 2025) EllapsedTime: 23.0 seconds RetCode: 0 Status: OK PackageFile: goTools_1.83.0.tar.gz PackageFileSize: 234.9 KiB