Package: goTools Version: 1.85.0 Command: /home/biocbuild/bbs-3.23-bioc/R/bin/R CMD INSTALL goTools StartedAt: 2025-11-04 15:45:46 -0500 (Tue, 04 Nov 2025) EndedAt: 2025-11-04 15:45:59 -0500 (Tue, 04 Nov 2025) EllapsedTime: 12.6 seconds RetCode: 0 Status: OK