Package: goTools Version: 1.85.0 Command: /home/biocbuild/bbs-3.23-bioc/R/bin/R CMD check --install=check:goTools.install-out.txt --library=/home/biocbuild/bbs-3.23-bioc/R/site-library --timings goTools_1.85.0.tar.gz StartedAt: 2025-11-06 00:05:42 -0500 (Thu, 06 Nov 2025) EndedAt: 2025-11-06 00:07:09 -0500 (Thu, 06 Nov 2025) EllapsedTime: 87.2 seconds RetCode: 0 Status: OK CheckDir: goTools.Rcheck Warnings: 0