Package: goTools Version: 1.85.0 Command: /home/biocbuild/bbs-3.23-bioc/R/bin/R CMD build --keep-empty-dirs --no-resave-data goTools StartedAt: 2025-11-04 17:51:18 -0500 (Tue, 04 Nov 2025) EndedAt: 2025-11-04 17:51:37 -0500 (Tue, 04 Nov 2025) EllapsedTime: 19.0 seconds RetCode: 0 Status: OK PackageFile: goTools_1.85.0.tar.gz PackageFileSize: 242.1 KiB