Package: goTools Version: 1.83.0 Command: /Library/Frameworks/R.framework/Resources/bin/R CMD INSTALL goTools StartedAt: 2025-10-12 15:34:57 -0400 (Sun, 12 Oct 2025) EndedAt: 2025-10-12 15:35:15 -0400 (Sun, 12 Oct 2025) EllapsedTime: 17.9 seconds RetCode: 0 Status: OK