Package: goTools Version: 1.85.0 Command: /Library/Frameworks/R.framework/Resources/bin/R CMD check --install=check:goTools.install-out.txt --library=/Library/Frameworks/R.framework/Resources/library --no-vignettes --timings goTools_1.85.0.tar.gz StartedAt: 2025-11-23 21:37:31 -0500 (Sun, 23 Nov 2025) EndedAt: 2025-11-23 21:39:16 -0500 (Sun, 23 Nov 2025) EllapsedTime: 105.9 seconds RetCode: 0 Status: OK CheckDir: goTools.Rcheck Warnings: 0