Package: goSorensen Version: 1.13.0 Command: /home/biocbuild/bbs-3.23-bioc/R/bin/R CMD build --keep-empty-dirs --no-resave-data goSorensen StartedAt: 2025-11-20 17:55:31 -0500 (Thu, 20 Nov 2025) EndedAt: 2025-11-20 17:58:47 -0500 (Thu, 20 Nov 2025) EllapsedTime: 196.2 seconds RetCode: 0 Status: OK PackageFile: goSorensen_1.13.0.tar.gz PackageFileSize: 959.6 KiB