Package: goSorensen Version: 1.11.0 Command: /Library/Frameworks/R.framework/Resources/bin/R CMD build --keep-empty-dirs --no-resave-data goSorensen StartedAt: 2025-10-24 17:17:37 -0400 (Fri, 24 Oct 2025) EndedAt: 2025-10-24 17:21:40 -0400 (Fri, 24 Oct 2025) EllapsedTime: 243.5 seconds RetCode: 0 Status: OK PackageFile: goSorensen_1.11.0.tar.gz PackageFileSize: 933.7 KiB