Package: goSorensen Version: 1.11.0 Command: /Library/Frameworks/R.framework/Resources/bin/R CMD INSTALL goSorensen StartedAt: 2025-10-03 15:25:54 -0400 (Fri, 03 Oct 2025) EndedAt: 2025-10-03 15:26:00 -0400 (Fri, 03 Oct 2025) EllapsedTime: 6.4 seconds RetCode: 0 Status: OK