Package: goSorensen Version: 1.11.0 Command: /Library/Frameworks/R.framework/Resources/bin/R CMD build --keep-empty-dirs --no-resave-data goSorensen StartedAt: 2025-10-03 16:35:29 -0400 (Fri, 03 Oct 2025) EndedAt: 2025-10-03 16:37:01 -0400 (Fri, 03 Oct 2025) EllapsedTime: 92.0 seconds RetCode: 0 Status: OK PackageFile: goSorensen_1.11.0.tar.gz PackageFileSize: 932.4 KiB