Package: goSorensen Version: 1.11.0 Command: rm -rf goSorensen.buildbin-libdir && mkdir goSorensen.buildbin-libdir && /Users/biocbuild/BBS/utils/build-universal.sh goSorensen_1.11.0.tar.gz /Library/Frameworks/R.framework/Resources/bin/R goSorensen.buildbin-libdir StartedAt: 2025-10-03 22:41:32 -0400 (Fri, 03 Oct 2025) EndedAt: 2025-10-03 22:41:38 -0400 (Fri, 03 Oct 2025) EllapsedTime: 6.1 seconds RetCode: 0 Status: OK PackageFile: goSorensen_1.11.0.tgz PackageFileSize: 1.094 MiB