Package: goProfiles Version: 1.71.0 Command: /home/biocbuild/bbs-3.22-bioc/R/bin/R CMD check --install=check:goProfiles.install-out.txt --library=/home/biocbuild/bbs-3.22-bioc/R/site-library --timings goProfiles_1.71.0.tar.gz StartedAt: 2025-10-28 00:12:34 -0400 (Tue, 28 Oct 2025) EndedAt: 2025-10-28 00:15:17 -0400 (Tue, 28 Oct 2025) EllapsedTime: 163.2 seconds RetCode: 0 Status: OK CheckDir: goProfiles.Rcheck Warnings: 0