Package: goProfiles Version: 1.73.0 Command: /home/biocbuild/bbs-3.23-bioc/R/bin/R CMD INSTALL goProfiles StartedAt: 2025-11-04 15:44:38 -0500 (Tue, 04 Nov 2025) EndedAt: 2025-11-04 15:44:53 -0500 (Tue, 04 Nov 2025) EllapsedTime: 14.4 seconds RetCode: 0 Status: OK