Package: goProfiles Version: 1.71.0 Command: /Library/Frameworks/R.framework/Resources/bin/R CMD INSTALL goProfiles StartedAt: 2025-10-10 15:39:30 -0400 (Fri, 10 Oct 2025) EndedAt: 2025-10-10 15:39:51 -0400 (Fri, 10 Oct 2025) EllapsedTime: 21.0 seconds RetCode: 0 Status: OK